BEGIN:VCALENDAR
VERSION:2.0
PRODID:-// - ECPv6.15.20//NONSGML v1.0//EN
CALSCALE:GREGORIAN
METHOD:PUBLISH
X-ORIGINAL-URL:https://bayberrystringquartet.com
X-WR-CALDESC:Events for 
REFRESH-INTERVAL;VALUE=DURATION:PT1H
X-Robots-Tag:noindex
X-PUBLISHED-TTL:PT1H
BEGIN:VTIMEZONE
TZID:America/New_York
BEGIN:DAYLIGHT
TZOFFSETFROM:-0500
TZOFFSETTO:-0400
TZNAME:EDT
DTSTART:20210314T070000
END:DAYLIGHT
BEGIN:STANDARD
TZOFFSETFROM:-0400
TZOFFSETTO:-0500
TZNAME:EST
DTSTART:20211107T060000
END:STANDARD
BEGIN:DAYLIGHT
TZOFFSETFROM:-0500
TZOFFSETTO:-0400
TZNAME:EDT
DTSTART:20220313T070000
END:DAYLIGHT
BEGIN:STANDARD
TZOFFSETFROM:-0400
TZOFFSETTO:-0500
TZNAME:EST
DTSTART:20221106T060000
END:STANDARD
BEGIN:DAYLIGHT
TZOFFSETFROM:-0500
TZOFFSETTO:-0400
TZNAME:EDT
DTSTART:20230312T070000
END:DAYLIGHT
BEGIN:STANDARD
TZOFFSETFROM:-0400
TZOFFSETTO:-0500
TZNAME:EST
DTSTART:20231105T060000
END:STANDARD
END:VTIMEZONE
BEGIN:VEVENT
DTSTART;TZID=America/New_York:20221116T193000
DTEND;TZID=America/New_York:20221116T193000
DTSTAMP:20260424T113442
CREATED:20221203T204449Z
LAST-MODIFIED:20221203T204449Z
UID:1478-1668627000-1668627000@bayberrystringquartet.com
SUMMARY:Fair Lane Music Guild
DESCRIPTION:
URL:https://bayberrystringquartet.com/event/fair-lane-music-guild/
LOCATION:Henry Ford Mansion\, Dearborn\, MI
END:VEVENT
BEGIN:VEVENT
DTSTART;TZID=America/New_York:20221112T193000
DTEND;TZID=America/New_York:20221112T193000
DTSTAMP:20260424T113442
CREATED:20221203T203654Z
LAST-MODIFIED:20221203T204313Z
UID:1470-1668281400-1668281400@bayberrystringquartet.com
SUMMARY:"Chamber Music in our Homes"
DESCRIPTION:
URL:https://bayberrystringquartet.com/event/chamber-music-in-our-homes/
LOCATION:Philadelphia\, PA\, Philadelphia\, PA
END:VEVENT
END:VCALENDAR