BEGIN:VCALENDAR
VERSION:2.0
PRODID:-// - ECPv6.15.20//NONSGML v1.0//EN
CALSCALE:GREGORIAN
METHOD:PUBLISH
X-ORIGINAL-URL:https://bayberrystringquartet.com
X-WR-CALDESC:Events for 
REFRESH-INTERVAL;VALUE=DURATION:PT1H
X-Robots-Tag:noindex
X-PUBLISHED-TTL:PT1H
BEGIN:VTIMEZONE
TZID:America/New_York
BEGIN:DAYLIGHT
TZOFFSETFROM:-0500
TZOFFSETTO:-0400
TZNAME:EDT
DTSTART:20210314T070000
END:DAYLIGHT
BEGIN:STANDARD
TZOFFSETFROM:-0400
TZOFFSETTO:-0500
TZNAME:EST
DTSTART:20211107T060000
END:STANDARD
BEGIN:DAYLIGHT
TZOFFSETFROM:-0500
TZOFFSETTO:-0400
TZNAME:EDT
DTSTART:20220313T070000
END:DAYLIGHT
BEGIN:STANDARD
TZOFFSETFROM:-0400
TZOFFSETTO:-0500
TZNAME:EST
DTSTART:20221106T060000
END:STANDARD
BEGIN:DAYLIGHT
TZOFFSETFROM:-0500
TZOFFSETTO:-0400
TZNAME:EDT
DTSTART:20230312T070000
END:DAYLIGHT
BEGIN:STANDARD
TZOFFSETFROM:-0400
TZOFFSETTO:-0500
TZNAME:EST
DTSTART:20231105T060000
END:STANDARD
BEGIN:DAYLIGHT
TZOFFSETFROM:-0500
TZOFFSETTO:-0400
TZNAME:EDT
DTSTART:20240310T070000
END:DAYLIGHT
BEGIN:STANDARD
TZOFFSETFROM:-0400
TZOFFSETTO:-0500
TZNAME:EST
DTSTART:20241103T060000
END:STANDARD
BEGIN:DAYLIGHT
TZOFFSETFROM:-0500
TZOFFSETTO:-0400
TZNAME:EDT
DTSTART:20250309T070000
END:DAYLIGHT
BEGIN:STANDARD
TZOFFSETFROM:-0400
TZOFFSETTO:-0500
TZNAME:EST
DTSTART:20251102T060000
END:STANDARD
BEGIN:DAYLIGHT
TZOFFSETFROM:-0500
TZOFFSETTO:-0400
TZNAME:EDT
DTSTART:20260308T070000
END:DAYLIGHT
BEGIN:STANDARD
TZOFFSETFROM:-0400
TZOFFSETTO:-0500
TZNAME:EST
DTSTART:20261101T060000
END:STANDARD
END:VTIMEZONE
BEGIN:VTIMEZONE
TZID:America/Phoenix
BEGIN:STANDARD
TZOFFSETFROM:-0700
TZOFFSETTO:-0700
TZNAME:MST
DTSTART:20230101T000000
END:STANDARD
END:VTIMEZONE
BEGIN:VEVENT
DTSTART;TZID=America/New_York:20250426T193000
DTEND;TZID=America/New_York:20250426T213000
DTSTAMP:20260423T191501
CREATED:20241205T024123Z
LAST-MODIFIED:20241205T024123Z
UID:2354-1745695800-1745703000@bayberrystringquartet.com
SUMMARY:Classical Chamber @ the Block
DESCRIPTION:
URL:https://bayberrystringquartet.com/event/classical-chamber-the-block/
LOCATION:The Block\, Muskegon\, Michigan
END:VEVENT
BEGIN:VEVENT
DTSTART;TZID=America/New_York:20250425T190000
DTEND;TZID=America/New_York:20250425T210000
DTSTAMP:20260423T191501
CREATED:20241205T023844Z
LAST-MODIFIED:20241205T023844Z
UID:2352-1745607600-1745614800@bayberrystringquartet.com
SUMMARY:Kerrytown Concert House
DESCRIPTION:
URL:https://bayberrystringquartet.com/event/kerrytown-concert-house-3/
LOCATION:Kerrytown Concert House\, Ann Arbor\, MI
END:VEVENT
BEGIN:VEVENT
DTSTART;TZID=America/New_York:20250402T120000
DTEND;TZID=America/New_York:20250402T130000
DTSTAMP:20260423T191501
CREATED:20241205T023606Z
LAST-MODIFIED:20241205T023722Z
UID:2348-1743595200-1743598800@bayberrystringquartet.com
SUMMARY:Wednesday Classical Concerts @ Schoolcraft College
DESCRIPTION:
URL:https://bayberrystringquartet.com/event/wednesday-classical-concerts-schoolcraft-college/
LOCATION:Kehrl Auditorium\, Livonia\, Michigan
END:VEVENT
BEGIN:VEVENT
DTSTART;TZID=America/New_York:20250309T150000
DTEND;TZID=America/New_York:20250309T170000
DTSTAMP:20260423T191501
CREATED:20241205T024510Z
LAST-MODIFIED:20250306T195232Z
UID:2360-1741532400-1741539600@bayberrystringquartet.com
SUMMARY:Scarab Club
DESCRIPTION:
URL:https://bayberrystringquartet.com/event/scarab-club/
LOCATION:Scarab Club\, Detroit\, Michigan
END:VEVENT
BEGIN:VEVENT
DTSTART;TZID=America/New_York:20250216T160000
DTEND;TZID=America/New_York:20250216T180000
DTSTAMP:20260423T191501
CREATED:20241205T010155Z
LAST-MODIFIED:20241205T010155Z
UID:2345-1739721600-1739728800@bayberrystringquartet.com
SUMMARY:Ridotto Series
DESCRIPTION:
URL:https://bayberrystringquartet.com/event/ridotto-series-2/
LOCATION:Huntington Jewish Center
END:VEVENT
BEGIN:VEVENT
DTSTART;TZID=America/New_York:20250131T190000
DTEND;TZID=America/New_York:20250131T203000
DTSTAMP:20260423T191501
CREATED:20241205T010033Z
LAST-MODIFIED:20241205T010033Z
UID:2342-1738350000-1738355400@bayberrystringquartet.com
SUMMARY:STEP Chamber Music Concert
DESCRIPTION:
URL:https://bayberrystringquartet.com/event/step-chamber-music-concert-2/
LOCATION:Birmingham\, AL
END:VEVENT
BEGIN:VEVENT
DTSTART;TZID=America/New_York:20250130T190000
DTEND;TZID=America/New_York:20250130T210000
DTSTAMP:20260423T191501
CREATED:20241205T005745Z
LAST-MODIFIED:20241205T010234Z
UID:2339-1738263600-1738270800@bayberrystringquartet.com
SUMMARY:ClefWorks Series Concert
DESCRIPTION:
URL:https://bayberrystringquartet.com/event/clefworks-series-concert/
LOCATION:Montgomery\, AL
END:VEVENT
BEGIN:VEVENT
DTSTART;TZID=America/New_York:20250130T090000
DTEND;TZID=America/New_York:20250130T110000
DTSTAMP:20260423T191501
CREATED:20241205T005705Z
LAST-MODIFIED:20241205T010254Z
UID:2336-1738227600-1738234800@bayberrystringquartet.com
SUMMARY:ClefWorks School Outreach
DESCRIPTION:
URL:https://bayberrystringquartet.com/event/clefworks-school-outreach/
LOCATION:Montgomery\, AL
END:VEVENT
BEGIN:VEVENT
DTSTART;TZID=America/New_York:20241123T190000
DTEND;TZID=America/New_York:20241123T210000
DTSTAMP:20260423T191501
CREATED:20240904T185007Z
LAST-MODIFIED:20240904T185007Z
UID:2201-1732388400-1732395600@bayberrystringquartet.com
SUMMARY:Chamber Music in our Homes
DESCRIPTION:
URL:https://bayberrystringquartet.com/event/chamber-music-in-our-homes-3/
LOCATION:Philadelphia\, PA\, Philadelphia\, PA
END:VEVENT
BEGIN:VEVENT
DTSTART;TZID=America/New_York:20241102T190000
DTEND;TZID=America/New_York:20241102T210000
DTSTAMP:20260423T191501
CREATED:20240904T185255Z
LAST-MODIFIED:20241030T204915Z
UID:2203-1730574000-1730581200@bayberrystringquartet.com
SUMMARY:Community Concert Series
DESCRIPTION:
URL:https://bayberrystringquartet.com/event/community-concert-series/
LOCATION:Atlanta\, GA\, Atlanta\, Georgia
END:VEVENT
BEGIN:VEVENT
DTSTART;TZID=America/New_York:20241027T160000
DTEND;TZID=America/New_York:20241027T180000
DTSTAMP:20260423T191501
CREATED:20240904T184842Z
LAST-MODIFIED:20240904T184842Z
UID:2198-1730044800-1730052000@bayberrystringquartet.com
SUMMARY:Vineville Concert Series
DESCRIPTION:
URL:https://bayberrystringquartet.com/event/vineville-concert-series/
LOCATION:Macon\, GA\, Macon\, Georgia
END:VEVENT
BEGIN:VEVENT
DTSTART;VALUE=DATE:20240808
DTEND;VALUE=DATE:20240810
DTSTAMP:20260423T191501
CREATED:20240308T152003Z
LAST-MODIFIED:20240308T152003Z
UID:1833-1723075200-1723247999@bayberrystringquartet.com
SUMMARY:Chamber Music Festival of Saugatuck
DESCRIPTION:
URL:https://bayberrystringquartet.com/event/chamber-music-festival-of-saugatuck/
LOCATION:Colorado
END:VEVENT
BEGIN:VEVENT
DTSTART;TZID=America/Phoenix:20240715T161500
DTEND;TZID=America/Phoenix:20240715T180000
DTSTAMP:20260423T191501
CREATED:20240308T152424Z
LAST-MODIFIED:20240308T152424Z
UID:1835-1721060100-1721066400@bayberrystringquartet.com
SUMMARY:PPSI presents the Bayberry String Quartet
DESCRIPTION:
URL:https://bayberrystringquartet.com/event/ppsi-presents-the-bayberry-string-quartet/
LOCATION:Stargate School\, 14530 Washington St\, Thornton\, Colorado\, 80023
END:VEVENT
BEGIN:VEVENT
DTSTART;VALUE=DATE:20240713
DTEND;VALUE=DATE:20240720
DTSTAMP:20260423T191501
CREATED:20240308T151855Z
LAST-MODIFIED:20240308T151855Z
UID:1831-1720828800-1721433599@bayberrystringquartet.com
SUMMARY:BSQ at PPSI Advanced String Camp
DESCRIPTION:Come study with us at PPSI Colorado! There will be an intensive chamber music weekend and then a full week of private lessons\, string orchestra\, and chamber music. You do not need to be a Suzuki student to attend.
URL:https://bayberrystringquartet.com/event/bsq-at-ppsi-advanced-string-camp/
LOCATION:Colorado
END:VEVENT
BEGIN:VEVENT
DTSTART;TZID=America/New_York:20240703T130000
DTEND;TZID=America/New_York:20240703T130000
DTSTAMP:20260423T191501
CREATED:20240312T172621Z
LAST-MODIFIED:20240626T232459Z
UID:1839-1720011600-1720011600@bayberrystringquartet.com
SUMMARY:BSQ at Chicago Institute
DESCRIPTION:
URL:https://bayberrystringquartet.com/event/bsq-at-chicago-institute/
LOCATION:Music Institute of Chicago- Evanston\, Evanston\, IL
END:VEVENT
BEGIN:VEVENT
DTSTART;TZID=America/New_York:20240701T190000
DTEND;TZID=America/New_York:20240701T210000
DTSTAMP:20260423T191501
CREATED:20240312T172806Z
LAST-MODIFIED:20240312T172806Z
UID:1842-1719860400-1719867600@bayberrystringquartet.com
SUMMARY:Laureate Gala @ Carnegie Hall
DESCRIPTION:
URL:https://bayberrystringquartet.com/event/laureate-gala-carnegie-hall/
LOCATION:Weill Recital Hall\, New York\, NY
END:VEVENT
BEGIN:VEVENT
DTSTART;TZID=America/New_York:20240629T160000
DTEND;TZID=America/New_York:20240629T180000
DTSTAMP:20260423T191501
CREATED:20240308T150601Z
LAST-MODIFIED:20240313T175656Z
UID:1828-1719676800-1719684000@bayberrystringquartet.com
SUMMARY:Chautauqua Chamber Music
DESCRIPTION:
URL:https://bayberrystringquartet.com/event/chautauqua-chamber-music/
LOCATION:Chautauqua Institution\, Chautauqua\, NY
END:VEVENT
BEGIN:VEVENT
DTSTART;TZID=America/New_York:20240403T190000
DTEND;TZID=America/New_York:20240403T203000
DTSTAMP:20260423T191501
CREATED:20230925T183938Z
LAST-MODIFIED:20230928T142339Z
UID:1698-1712170800-1712176200@bayberrystringquartet.com
SUMMARY:Fair Lane Music Guild
DESCRIPTION:
URL:https://bayberrystringquartet.com/event/fair-lane-music-guild-2/
LOCATION:Henry Ford Mansion\, Dearborn\, MI
END:VEVENT
BEGIN:VEVENT
DTSTART;VALUE=DATE:20240329
DTEND;VALUE=DATE:20240330
DTSTAMP:20260423T191501
CREATED:20240325T150737Z
LAST-MODIFIED:20240325T150737Z
UID:1864-1711670400-1711756799@bayberrystringquartet.com
SUMMARY:Masterclass for Dorothy Gerber Strings Program (Private event)
DESCRIPTION:
URL:https://bayberrystringquartet.com/event/masterclass-for-dorothy-gerber-strings-program-private-event/
LOCATION:Ann Arbor\, MI
END:VEVENT
BEGIN:VEVENT
DTSTART;TZID=America/New_York:20240322T193000
DTEND;TZID=America/New_York:20240322T213000
DTSTAMP:20260423T191501
CREATED:20240129T034102Z
LAST-MODIFIED:20240129T034102Z
UID:1809-1711135800-1711143000@bayberrystringquartet.com
SUMMARY:Alluvion Presents the Bayberry String Quartet
DESCRIPTION:
URL:https://bayberrystringquartet.com/event/alluvion-presents-the-bayberry-string-quartet/
LOCATION:Alluvion\, 414 East Eighth Street\, Traverse City\, MI\, 49686\, United States
END:VEVENT
BEGIN:VEVENT
DTSTART;TZID=America/New_York:20240301T191500
DTEND;TZID=America/New_York:20240301T203000
DTSTAMP:20260423T191501
CREATED:20221203T205146Z
LAST-MODIFIED:20230925T183708Z
UID:1487-1709320500-1709325000@bayberrystringquartet.com
SUMMARY:STEP Chamber Music Concert
DESCRIPTION:
URL:https://bayberrystringquartet.com/event/step-chamber-music-concert/
LOCATION:Alabama School of Fine Arts\, 1800 Reverend Abraham Woods Jr Blvd\, Birmingham\, Alabama\, 35203
END:VEVENT
BEGIN:VEVENT
DTSTART;VALUE=DATE:20240113
DTEND;VALUE=DATE:20240114
DTSTAMP:20260423T191501
CREATED:20230812T201651Z
LAST-MODIFIED:20231221T043640Z
UID:1655-1705104000-1705190399@bayberrystringquartet.com
SUMMARY:Kerrytown Concert House
DESCRIPTION:
URL:https://bayberrystringquartet.com/event/kerrytown-concert-house-2/
LOCATION:Kerrytown Concert House\, Ann Arbor\, MI
END:VEVENT
BEGIN:VEVENT
DTSTART;VALUE=DATE:20240107
DTEND;VALUE=DATE:20240108
DTSTAMP:20260423T191501
CREATED:20230812T201452Z
LAST-MODIFIED:20240103T235700Z
UID:1651-1704585600-1704671999@bayberrystringquartet.com
SUMMARY:Ridotto Series
DESCRIPTION:
URL:https://bayberrystringquartet.com/event/ridotto-series/
LOCATION:Long Island\, NY\, NY\, United States
END:VEVENT
BEGIN:VEVENT
DTSTART;TZID=America/New_York:20231118T190000
DTEND;TZID=America/New_York:20231118T203000
DTSTAMP:20260423T191501
CREATED:20230704T145806Z
LAST-MODIFIED:20230704T145806Z
UID:1615-1700334000-1700339400@bayberrystringquartet.com
SUMMARY:Chamber Music in our Homes
DESCRIPTION:
URL:https://bayberrystringquartet.com/event/chamber-music-in-our-homes-2/
LOCATION:Philadelphia\, PA\, Philadelphia\, PA
END:VEVENT
BEGIN:VEVENT
DTSTART;TZID=America/New_York:20231027T193000
DTEND;TZID=America/New_York:20231027T213000
DTSTAMP:20260423T191501
CREATED:20230424T174421Z
LAST-MODIFIED:20231020T014125Z
UID:1585-1698435000-1698442200@bayberrystringquartet.com
SUMMARY:Grove Music Festival
DESCRIPTION:
URL:https://bayberrystringquartet.com/event/grove-music-festival/
LOCATION:St. John’s Episcopal Church\, 405 N. Saginaw Rd\, Midland\, MI\, 48640\, United States
END:VEVENT
BEGIN:VEVENT
DTSTART;TZID=America/New_York:20230810T190000
DTEND;TZID=America/New_York:20230810T190000
DTSTAMP:20260423T191501
CREATED:20230327T181904Z
LAST-MODIFIED:20230327T182421Z
UID:1548-1691694000-1691694000@bayberrystringquartet.com
SUMMARY:White Lake Chamber Music Society
DESCRIPTION:
URL:https://bayberrystringquartet.com/event/white-lake-chamber-music-society/
LOCATION:Colorado
END:VEVENT
BEGIN:VEVENT
DTSTART;VALUE=DATE:20230718
DTEND;VALUE=DATE:20230723
DTSTAMP:20260423T191501
CREATED:20230327T182037Z
LAST-MODIFIED:20230424T173918Z
UID:1550-1689638400-1690070399@bayberrystringquartet.com
SUMMARY:Peaks to Plains Advanced Chamber Music Immersive
DESCRIPTION:
URL:https://bayberrystringquartet.com/event/peaks-to-plains-advanced-chamber-music-immersive/
LOCATION:Colorado
END:VEVENT
BEGIN:VEVENT
DTSTART;TZID=America/New_York:20230625T140000
DTEND;TZID=America/New_York:20230625T140000
DTSTAMP:20260423T191501
CREATED:20230327T182045Z
LAST-MODIFIED:20230424T173949Z
UID:1545-1687701600-1687701600@bayberrystringquartet.com
SUMMARY:BAC Summer Concert Series
DESCRIPTION:
URL:https://bayberrystringquartet.com/event/bac-summer-concert-series/
LOCATION:Roti Roti Art Center\, 117 West Front Street\, Buchanan\, MI\, 49107
END:VEVENT
BEGIN:VEVENT
DTSTART;TZID=America/New_York:20230121T193000
DTEND;TZID=America/New_York:20230121T193000
DTSTAMP:20260423T191501
CREATED:20221203T204721Z
LAST-MODIFIED:20221203T204721Z
UID:1481-1674329400-1674329400@bayberrystringquartet.com
SUMMARY:Kerrytown Concert House
DESCRIPTION:
URL:https://bayberrystringquartet.com/event/kerrytown-concert-house/
LOCATION:Kerrytown Concert House\, Ann Arbor\, MI
END:VEVENT
BEGIN:VEVENT
DTSTART;TZID=America/New_York:20221116T193000
DTEND;TZID=America/New_York:20221116T193000
DTSTAMP:20260423T191501
CREATED:20221203T204449Z
LAST-MODIFIED:20221203T204449Z
UID:1478-1668627000-1668627000@bayberrystringquartet.com
SUMMARY:Fair Lane Music Guild
DESCRIPTION:
URL:https://bayberrystringquartet.com/event/fair-lane-music-guild/
LOCATION:Henry Ford Mansion\, Dearborn\, MI
END:VEVENT
END:VCALENDAR