BEGIN:VCALENDAR
VERSION:2.0
PRODID:-// - ECPv6.15.20//NONSGML v1.0//EN
CALSCALE:GREGORIAN
METHOD:PUBLISH
X-ORIGINAL-URL:https://bayberrystringquartet.com
X-WR-CALDESC:Events for 
REFRESH-INTERVAL;VALUE=DURATION:PT1H
X-Robots-Tag:noindex
X-PUBLISHED-TTL:PT1H
BEGIN:VTIMEZONE
TZID:America/New_York
BEGIN:DAYLIGHT
TZOFFSETFROM:-0500
TZOFFSETTO:-0400
TZNAME:EDT
DTSTART:20250309T070000
END:DAYLIGHT
BEGIN:STANDARD
TZOFFSETFROM:-0400
TZOFFSETTO:-0500
TZNAME:EST
DTSTART:20251102T060000
END:STANDARD
BEGIN:DAYLIGHT
TZOFFSETFROM:-0500
TZOFFSETTO:-0400
TZNAME:EDT
DTSTART:20260308T070000
END:DAYLIGHT
BEGIN:STANDARD
TZOFFSETFROM:-0400
TZOFFSETTO:-0500
TZNAME:EST
DTSTART:20261101T060000
END:STANDARD
BEGIN:DAYLIGHT
TZOFFSETFROM:-0500
TZOFFSETTO:-0400
TZNAME:EDT
DTSTART:20270314T070000
END:DAYLIGHT
BEGIN:STANDARD
TZOFFSETFROM:-0400
TZOFFSETTO:-0500
TZNAME:EST
DTSTART:20271107T060000
END:STANDARD
END:VTIMEZONE
BEGIN:VEVENT
DTSTART;TZID=America/New_York:20260425T193000
DTEND;TZID=America/New_York:20260425T213000
DTSTAMP:20260423T064245
CREATED:20251111T175639Z
LAST-MODIFIED:20251111T175639Z
UID:2810-1777145400-1777152600@bayberrystringquartet.com
SUMMARY:Chamber Music in Our Homes
DESCRIPTION:
URL:https://bayberrystringquartet.com/event/chamber-music-in-our-homes-4/
LOCATION:Philadelphia\, PA\, Philadelphia\, PA
ATTACH;FMTTYPE=image/jpeg:https://bayberrystringquartet.com/wp-content/uploads/2025/11/House-concert.jpg
END:VEVENT
BEGIN:VEVENT
DTSTART;TZID=America/New_York:20260516T140000
DTEND;TZID=America/New_York:20260516T160000
DTSTAMP:20260423T064245
CREATED:20260324T161143Z
LAST-MODIFIED:20260324T161157Z
UID:2871-1778940000-1778947200@bayberrystringquartet.com
SUMMARY:Story of the String Quartet- Workshop and Masterclass
DESCRIPTION:
URL:https://bayberrystringquartet.com/event/story-of-the-string-quartet/
LOCATION:Macon Creek\, Clinton\, MI\, United States
ATTACH;FMTTYPE=image/jpeg:https://bayberrystringquartet.com/wp-content/uploads/2026/03/macon_aerial3-1.jpg
END:VEVENT
BEGIN:VEVENT
DTSTART;TZID=America/New_York:20260517T140000
DTEND;TZID=America/New_York:20260517T153000
DTSTAMP:20260423T064245
CREATED:20260324T161522Z
LAST-MODIFIED:20260324T161522Z
UID:2876-1779026400-1779031800@bayberrystringquartet.com
SUMMARY:Bayberry @ Macon Creek
DESCRIPTION:
URL:https://bayberrystringquartet.com/event/bayberry-macon-creek/
LOCATION:Macon Creek\, Clinton\, MI\, United States
ATTACH;FMTTYPE=image/jpeg:https://bayberrystringquartet.com/wp-content/uploads/2026/03/macon_aerial3-1.jpg
END:VEVENT
END:VCALENDAR