BEGIN:VCALENDAR
VERSION:2.0
PRODID:-// - ECPv6.15.20//NONSGML v1.0//EN
CALSCALE:GREGORIAN
METHOD:PUBLISH
X-ORIGINAL-URL:https://bayberrystringquartet.com
X-WR-CALDESC:Events for 
REFRESH-INTERVAL;VALUE=DURATION:PT1H
X-Robots-Tag:noindex
X-PUBLISHED-TTL:PT1H
BEGIN:VTIMEZONE
TZID:America/New_York
BEGIN:DAYLIGHT
TZOFFSETFROM:-0500
TZOFFSETTO:-0400
TZNAME:EDT
DTSTART:20250309T070000
END:DAYLIGHT
BEGIN:STANDARD
TZOFFSETFROM:-0400
TZOFFSETTO:-0500
TZNAME:EST
DTSTART:20251102T060000
END:STANDARD
BEGIN:DAYLIGHT
TZOFFSETFROM:-0500
TZOFFSETTO:-0400
TZNAME:EDT
DTSTART:20260308T070000
END:DAYLIGHT
BEGIN:STANDARD
TZOFFSETFROM:-0400
TZOFFSETTO:-0500
TZNAME:EST
DTSTART:20261101T060000
END:STANDARD
BEGIN:DAYLIGHT
TZOFFSETFROM:-0500
TZOFFSETTO:-0400
TZNAME:EDT
DTSTART:20270314T070000
END:DAYLIGHT
BEGIN:STANDARD
TZOFFSETFROM:-0400
TZOFFSETTO:-0500
TZNAME:EST
DTSTART:20271107T060000
END:STANDARD
END:VTIMEZONE
BEGIN:VEVENT
DTSTART;TZID=America/New_York:20260314T130000
DTEND;TZID=America/New_York:20260314T140000
DTSTAMP:20260423T140504
CREATED:20251111T155019Z
LAST-MODIFIED:20251111T155248Z
UID:2800-1773493200-1773496800@bayberrystringquartet.com
SUMMARY:Princeton University Concerts
DESCRIPTION:
URL:https://bayberrystringquartet.com/event/princeton-university-concerts/
LOCATION:Richardson Auditorium- Alexander Hall\, Princeton\, NJ
ATTACH;FMTTYPE=image/jpeg:https://bayberrystringquartet.com/wp-content/uploads/2025/11/richardson1.jpg
END:VEVENT
BEGIN:VEVENT
DTSTART;TZID=America/New_York:20260314T150000
DTEND;TZID=America/New_York:20260314T160000
DTSTAMP:20260423T140504
CREATED:20251111T155202Z
LAST-MODIFIED:20251111T155228Z
UID:2803-1773500400-1773504000@bayberrystringquartet.com
SUMMARY:Princeton University Concerts
DESCRIPTION:
URL:https://bayberrystringquartet.com/event/princeton-university-concerts-2/
LOCATION:Richardson Auditorium- Alexander Hall\, Princeton\, NJ
ATTACH;FMTTYPE=image/jpeg:https://bayberrystringquartet.com/wp-content/uploads/2025/11/richardson1.jpg
END:VEVENT
END:VCALENDAR