BEGIN:VCALENDAR
VERSION:2.0
PRODID:-// - ECPv6.15.20//NONSGML v1.0//EN
CALSCALE:GREGORIAN
METHOD:PUBLISH
X-ORIGINAL-URL:https://bayberrystringquartet.com
X-WR-CALDESC:Events for 
REFRESH-INTERVAL;VALUE=DURATION:PT1H
X-Robots-Tag:noindex
X-PUBLISHED-TTL:PT1H
BEGIN:VTIMEZONE
TZID:America/New_York
BEGIN:DAYLIGHT
TZOFFSETFROM:-0500
TZOFFSETTO:-0400
TZNAME:EDT
DTSTART:20250309T070000
END:DAYLIGHT
BEGIN:STANDARD
TZOFFSETFROM:-0400
TZOFFSETTO:-0500
TZNAME:EST
DTSTART:20251102T060000
END:STANDARD
BEGIN:DAYLIGHT
TZOFFSETFROM:-0500
TZOFFSETTO:-0400
TZNAME:EDT
DTSTART:20260308T070000
END:DAYLIGHT
BEGIN:STANDARD
TZOFFSETFROM:-0400
TZOFFSETTO:-0500
TZNAME:EST
DTSTART:20261101T060000
END:STANDARD
BEGIN:DAYLIGHT
TZOFFSETFROM:-0500
TZOFFSETTO:-0400
TZNAME:EDT
DTSTART:20270314T070000
END:DAYLIGHT
BEGIN:STANDARD
TZOFFSETFROM:-0400
TZOFFSETTO:-0500
TZNAME:EST
DTSTART:20271107T060000
END:STANDARD
END:VTIMEZONE
BEGIN:VEVENT
DTSTART;VALUE=DATE:20260306
DTEND;VALUE=DATE:20260309
DTSTAMP:20260423T140121
CREATED:20251111T154511Z
LAST-MODIFIED:20251111T154511Z
UID:2793-1772755200-1773014399@bayberrystringquartet.com
SUMMARY:STEP Chamber Music Workshop
DESCRIPTION:
URL:https://bayberrystringquartet.com/event/step-chamber-music-workshop/
LOCATION:Birmingham\, AL
ATTACH;FMTTYPE=image/jpeg:https://bayberrystringquartet.com/wp-content/uploads/2025/11/STEP-scaled.jpg
END:VEVENT
BEGIN:VEVENT
DTSTART;TZID=America/New_York:20260307T130000
DTEND;TZID=America/New_York:20260307T140000
DTSTAMP:20260423T140121
CREATED:20251111T154800Z
LAST-MODIFIED:20251111T183354Z
UID:2796-1772888400-1772892000@bayberrystringquartet.com
SUMMARY:BSQ in Birmingham
DESCRIPTION:
URL:https://bayberrystringquartet.com/event/bsq-in-birmingham/
LOCATION:St. Stephen’s Episcopal Church\,\, Vestia Hills\, AL\, 35223
ATTACH;FMTTYPE=image/webp:https://bayberrystringquartet.com/wp-content/uploads/2025/11/St.-Stephens.jpg.webp
END:VEVENT
END:VCALENDAR